BEGIN:VCALENDAR
VERSION:2.0
PRODID:-//CODE ROOD - ECPv6.0.4//NONSGML v1.0//EN
CALSCALE:GREGORIAN
METHOD:PUBLISH
X-ORIGINAL-URL:https://code-rood.org/en/
X-WR-CALDESC:Events for CODE ROOD
REFRESH-INTERVAL;VALUE=DURATION:PT1H
X-Robots-Tag:noindex
X-PUBLISHED-TTL:PT1H
BEGIN:VTIMEZONE
TZID:Europe/Amsterdam
BEGIN:DAYLIGHT
TZOFFSETFROM:+0100
TZOFFSETTO:+0200
TZNAME:CEST
DTSTART:20180325T010000
END:DAYLIGHT
BEGIN:STANDARD
TZOFFSETFROM:+0200
TZOFFSETTO:+0100
TZNAME:CET
DTSTART:20181028T010000
END:STANDARD
BEGIN:DAYLIGHT
TZOFFSETFROM:+0100
TZOFFSETTO:+0200
TZNAME:CEST
DTSTART:20190331T010000
END:DAYLIGHT
BEGIN:STANDARD
TZOFFSETFROM:+0200
TZOFFSETTO:+0100
TZNAME:CET
DTSTART:20191027T010000
END:STANDARD
BEGIN:DAYLIGHT
TZOFFSETFROM:+0100
TZOFFSETTO:+0200
TZNAME:CEST
DTSTART:20200329T010000
END:DAYLIGHT
BEGIN:STANDARD
TZOFFSETFROM:+0200
TZOFFSETTO:+0100
TZNAME:CET
DTSTART:20201025T010000
END:STANDARD
BEGIN:DAYLIGHT
TZOFFSETFROM:+0100
TZOFFSETTO:+0200
TZNAME:CEST
DTSTART:20210328T010000
END:DAYLIGHT
BEGIN:STANDARD
TZOFFSETFROM:+0200
TZOFFSETTO:+0100
TZNAME:CET
DTSTART:20211031T010000
END:STANDARD
END:VTIMEZONE
BEGIN:VEVENT
DTSTART;TZID=Europe/Amsterdam:20210307T140000
DTEND;TZID=Europe/Amsterdam:20210307T160000
DTSTAMP:20260424T165512
CREATED:20210225T141506Z
LAST-MODIFIED:20210225T141506Z
UID:12675-1615125600-1615132800@code-rood.org
SUMMARY:Open Media & Communication meeting Code Rood
DESCRIPTION:Do you want to fight fossil industry? Do like to develop strategic messages? Writing articles? Talking to journalists? Or are you a fan of social media? \nThen you should join this meeting of the Media and Communication workking group! We will tell you more about what we do and how you can contribute in a way that suits you! \nSign up using this form: \nhttps://forms.code-rood.org/mecomgeneralmeeting
URL:https://code-rood.org/en/event/open-media-communication-meeting-code-rood/
LOCATION:Online\, Nederland
CATEGORIES:Meeting
ATTACH;FMTTYPE=image/jpeg:https://code-rood.org/wp-content/uploads/2020/05/fotovoorPB.jpg
END:VEVENT
BEGIN:VEVENT
DTSTART;TZID=Europe/Amsterdam:20190901T110000
DTEND;TZID=Europe/Amsterdam:20190901T170000
DTSTAMP:20260424T165512
CREATED:20190824T130152Z
LAST-MODIFIED:20190824T130152Z
UID:10080-1567335600-1567357200@code-rood.org
SUMMARY:Samen maken we de Klimaatstaking groot!
DESCRIPTION:Ons gezamenlijke thuis staat in brand\, mensen worden nu al geraakt door de klimaatcrisis. Deze september zullen wereldwijd miljoenen mensen staken tegen het gebrek aan klimaatactie van de overheid\, ook vanuit Nederland doen we mee. En we kunnen je hulp goed gebruiken. \nWil jij ons helpen luid en duidelijk te maken dat dit niet zo langer kan? Kom dan naar onze werkgroependag\, om samen met vrijwilligers vanuit het hele land aan de slag te gaan en deze staking gróót te maken. Samen voor een rechtvaardige en leefbare planeet\, nu en in de toekomst. \nProgramma\n11:00 – 12:00 inloop\n12:00 – 12:45 introductie / kennismaking / waar staan we nu?\n12:45 – 13.30 introductie werkgroepen\n13:30 – 14:15 veganistische lunch\n14:15 – 15:30 werkgroepentijd\n15:30 – 16:00 pauze\n16:00 – 17:00 volgende stappen & afsluiten\n17:00 – 18:00 opruimen en borrel met snacks \nIn verband met de voorbereidingen van het eten en het programma graag zo snel mogelijk aanmelden via dit formulier: https://tinyurl.com/y2cfh64y Na aanmelding krijg je ook nog een mailtje met de exacte locatie.
URL:https://code-rood.org/en/event/samen-maken-we-de-klimaatstaking-groot/
LOCATION:Amsterdam\, Nederland
CATEGORIES:Meeting
ATTACH;FMTTYPE=image/jpeg:https://code-rood.org/wp-content/uploads/2019/08/68634551_1653995434733674_7261053873618419712_o.jpg
END:VEVENT
BEGIN:VEVENT
DTSTART;TZID=Europe/Amsterdam:20190717T190000
DTEND;TZID=Europe/Amsterdam:20190717T210000
DTSTAMP:20260424T165512
CREATED:20190710T214000Z
LAST-MODIFIED:20190710T214139Z
UID:9795-1563390000-1563397200@code-rood.org
SUMMARY:Open SMF! Mobilisation Meeting
DESCRIPTION:Are you inspired by the idea of cancelling the Shell AGM in 2020 🤩? Do you want to help make next year’s action BIG by mobilizing as many people as possible? Then join us for this open meeting. \nWe will brainstorm about how to spread the word about Shell Must Fall! in the Netherlands and beyond and to get people involved in the campaign 🔥! \nOur focus for the next few months will be to contribute to the student actions and strikes that are taking place worldwide from 20-27 September – so we are specifically looking for people who have some time to contribute between now and September.
URL:https://code-rood.org/en/event/open-smf-mobilisation-meeting/
LOCATION:Fossielvrij NL Kantoor\, Minahassastraat 1\, Amsterdam\, Noord Holland\, 1094RS\, Nederland
CATEGORIES:Meeting
ATTACH;FMTTYPE=image/jpeg:https://code-rood.org/wp-content/uploads/2019/07/compostcapitalism.jpg
END:VEVENT
BEGIN:VEVENT
DTSTART;TZID=Europe/Amsterdam:20190713T110000
DTEND;TZID=Europe/Amsterdam:20190713T170000
DTSTAMP:20260424T165512
CREATED:20190710T212950Z
LAST-MODIFIED:20190710T213527Z
UID:9780-1563015600-1563037200@code-rood.org
SUMMARY:Werkdag Septemberstaking!
DESCRIPTION:27 september wordt de grootste wereldwijde klimaatstaking ooit\, voor het eerst georganiseerd door jongeren en volwassenen samen. In Nederland wordt dit gedaan door een brede coalitie van organisaties\, zie de aankondiging op FB hier:\nhttps://www.facebook.com/events/494662804697554/\nOm deze staking zo groot mogelijk te maken hebben we alle hulp nodig die mogelijk is! \nDaarom werken we de komende weken in werkgroepen\, ieder met eigen taken en planning. Bijvoorbeeld logistiek\, pers & media\, programma\, online communicatie & mobilisatie\, en nog meerderen. \nDeze zaterdag 13 juli gaan we in Amsterdam een start maken met iedereen\, en plannen hoe we het gaan doen de komende twee maanden. Wil jij ook meehelpen? Meld je dan aan via dit formulier\, en kom ook! https://forms.gle/pEpAhGzhM8C5yWf26 \nSamen maken we de klimaatstaking groot!
URL:https://code-rood.org/en/event/werkdag-septemberstaking/
LOCATION:Amsterdam\, Amsterdam\, Noord Holland\, Nederland
CATEGORIES:Meeting
ATTACH;FMTTYPE=image/jpeg:https://code-rood.org/wp-content/uploads/2019/07/ideas.jpg
END:VEVENT
BEGIN:VEVENT
DTSTART;TZID=Europe/Amsterdam:20181216T180000
DTEND;TZID=Europe/Amsterdam:20181216T200000
DTSTAMP:20260424T165512
CREATED:20181124T201708Z
LAST-MODIFIED:20190204T151817Z
UID:6615-1544983200-1544990400@code-rood.org
SUMMARY:2 Jaar CODEROOD - en nu? Utrecht
DESCRIPTION:16 December\, 17:00 – 19:00\nACU\, Voorstraat 71\, 3512 AK\, Utrecht (kaart)\nlink: algemene info over deze Meetup\nlink: facebook event\nHierna op dezelfde lokatie om 21:00 concert van Bleach! Nirvana Tribute band
URL:https://code-rood.org/en/event/2-jaar-coderood-en-nu-utrecht/
LOCATION:ACU\, Voorstraat 71\, Utrecht\, 3512 AK\, Nederland
CATEGORIES:Meeting
END:VEVENT
BEGIN:VEVENT
DTSTART;TZID=Europe/Amsterdam:20181216T150000
DTEND;TZID=Europe/Amsterdam:20181216T180000
DTSTAMP:20260424T165512
CREATED:20181124T200503Z
LAST-MODIFIED:20190204T152758Z
UID:6613-1544972400-1544983200@code-rood.org
SUMMARY:2 Jaar CODEROOD - en nu?  Nijmegen
DESCRIPTION:16 December\,  14:00 – 17:00\nDe Klinker\, van Broeckhuysenstraat 46\, 6511 PK\, Nijmegen (kaart)\nlink: algemene info over deze Meetup\nlink: facebook event
URL:https://code-rood.org/en/event/2-jaar-coderood-en-nu-nijmegen/
LOCATION:De Klinker\, van Broeckhuysenstraat 46\, Nijmegen\, 6511 PK\, Nederland
CATEGORIES:Meeting
END:VEVENT
BEGIN:VEVENT
DTSTART;TZID=Europe/Amsterdam:20181213T203000
DTEND;TZID=Europe/Amsterdam:20181213T223000
DTSTAMP:20260424T165512
CREATED:20181124T200133Z
LAST-MODIFIED:20190204T152149Z
UID:6611-1544733000-1544740200@code-rood.org
SUMMARY:2 Jaar CODEROOD - en nu? Rotterdam
DESCRIPTION:13 December\, 19:30 – 21:30\nPoortgebouw\, Stieltjesstraat 38\, Rotterdam\nlink: algemene info over deze Meetup\nlink: facebook event
URL:https://code-rood.org/en/event/2-jaar-coderood-en-nu-rotterdam/
LOCATION:Open Media & Communication meeting Code Rood
CATEGORIES:Meeting
END:VEVENT
BEGIN:VEVENT
DTSTART;TZID=Europe/Amsterdam:20181213T200000
DTEND;TZID=Europe/Amsterdam:20181213T230000
DTSTAMP:20260424T165512
CREATED:20181201T220929Z
LAST-MODIFIED:20190204T152726Z
UID:6671-1544731200-1544742000@code-rood.org
SUMMARY:2 jaar CODEROOD  - nu? Leiden
DESCRIPTION:14 December\,  19:00 – 22:00\nDe Ontsporing\, Bielsenstraat 1b\, Leiden\nlink: algemene info over deze Meetups\nlink: facebook event
URL:https://code-rood.org/en/event/2-jaar-coderood-nu-leiden/
LOCATION:De Ontsporing\, Bielsenstraat 1b\, Leiden\, De Ontsporing\, Bielsenstraat 1b\, Leiden\, Leiden\, Nederland
CATEGORIES:Meeting
END:VEVENT
BEGIN:VEVENT
DTSTART;TZID=Europe/Amsterdam:20181213T200000
DTEND;TZID=Europe/Amsterdam:20181213T220000
DTSTAMP:20260424T165512
CREATED:20181124T195931Z
LAST-MODIFIED:20190204T152223Z
UID:6609-1544731200-1544738400@code-rood.org
SUMMARY:2 Jaar CODEROOD - en nu? Amsterdam
DESCRIPTION:13 December\, 19:00 – 21:00\nCinema of the Dam’d\, Overtoom 301\, 1054 HW  Amsterdam\nlink: algemene info over deze Meetups\nlink: event op facebook
URL:https://code-rood.org/en/event/2-jaar-coderood-en-nu-amsterdam/
LOCATION:Open Media & Communication meeting Code Rood
CATEGORIES:Meeting
END:VEVENT
END:VCALENDAR