BEGIN:VCALENDAR
VERSION:2.0
PRODID:-//CODE ROOD - ECPv6.0.4//NONSGML v1.0//EN
CALSCALE:GREGORIAN
METHOD:PUBLISH
X-ORIGINAL-URL:https://code-rood.org/en/
X-WR-CALDESC:Events for CODE ROOD
REFRESH-INTERVAL;VALUE=DURATION:PT1H
X-Robots-Tag:noindex
X-PUBLISHED-TTL:PT1H
BEGIN:VTIMEZONE
TZID:Europe/Amsterdam
BEGIN:DAYLIGHT
TZOFFSETFROM:+0100
TZOFFSETTO:+0200
TZNAME:CEST
DTSTART:20170326T010000
END:DAYLIGHT
BEGIN:STANDARD
TZOFFSETFROM:+0200
TZOFFSETTO:+0100
TZNAME:CET
DTSTART:20171029T010000
END:STANDARD
BEGIN:DAYLIGHT
TZOFFSETFROM:+0100
TZOFFSETTO:+0200
TZNAME:CEST
DTSTART:20180325T010000
END:DAYLIGHT
BEGIN:STANDARD
TZOFFSETFROM:+0200
TZOFFSETTO:+0100
TZNAME:CET
DTSTART:20181028T010000
END:STANDARD
END:VTIMEZONE
BEGIN:VEVENT
DTSTART;TZID=Europe/Amsterdam:20180523T213000
DTEND;TZID=Europe/Amsterdam:20180523T020000
DTSTAMP:20260423T195441
CREATED:20180510T125049Z
LAST-MODIFIED:20190204T160056Z
UID:3461-1527111000-1527040800@code-rood.org
SUMMARY:Informatieavond Deventer 23 mei
DESCRIPTION:Op 23 mei is er in Deventer op de zandweerd een infoavond over gas in Groningen\, de aankomende burgerlijke ongehoorzaamheidsactie van Code Rood\, de legale support demonstratie\, en het klimaatkamp in Augustus.  Er zal iets worden verteld over de geschiedenis van Code Rood\, de mijnbouw en de gevolgen daarvan in Groningen en de aankomende klimaatacties van Code Rood.\nNa de presentatie laten we de film De stille beving zien\, een heftig inkijkje in hoe de gaswinning het persoonlijke leven aantast! \nProgramma:\n\nDatum: 23 Mei 2018\nStart: 19:30\, presentatie Code Rood + Q&A\nLocatie:  J. D. Huiberssraat 10\, Deventer (kaart)\, 8 minuten fietsen van NS station deventer\n20:30 Film: De stille beving \nDeel dit op Facebook!\n\n 
URL:https://code-rood.org/en/event/informatie-avond-deventer-23-mei/
LOCATION:Informatieavond Rotterdam 20 juni
CATEGORIES:Info-night
END:VEVENT
BEGIN:VEVENT
DTSTART;TZID=Europe/Amsterdam:20180518T220000
DTEND;TZID=Europe/Amsterdam:20180518T220000
DTSTAMP:20260423T195441
CREATED:20180427T181734Z
LAST-MODIFIED:20190204T155434Z
UID:3335-1526680800-1526680800@code-rood.org
SUMMARY:Dance for Climate Justice
DESCRIPTION:▬▬▬▬▬ ★ LINE-UP ★ ▬▬▬▬▬\nLydia Eisenblätter (Distillery)\nFiltertypen (Yippiee)\nLeontien ACDA\nPeacemaker\nReach (Baumm)\nRecht Monoton \n▬▬▬▬▬ ★ DANCE FOR CLIMATE JUSTICE ★ ▬▬▬▬▬\nCode Rood and the Beats Against Coal collective are joining forces. We\nare organising this party to raise money for the climate camp and mass\naction against gas happening in Groningen this summer.\nMusic always played an important part in protest culture and we want to\ncontinue to live up to this spirit. From Reclaim the Street raves in\nLondon to Nazis Wegbassen actions in Berlin – the tech/house music scene\nis political and we are taking a stand for climate justice and against\nthe fossil fuel industry that keeps destroying lives. \n▬▬▬▬▬ ★ TICKETS ★ ▬▬▬▬▬\nRecommended donation 9 Euro \n▬▬▬▬▬ ★ SAFER SPACE ★ ▬▬▬▬▬\nWe are not tolerating racism\, sexism\, homo- or transphobia\, ableism\, and other forms of oppression in any form
URL:https://code-rood.org/en/event/dance-climate-justice/
LOCATION:Informatieavond Rotterdam 20 juni
CATEGORIES:Party
END:VEVENT
BEGIN:VEVENT
DTSTART;TZID=Europe/Amsterdam:20180516T203000
DTEND;TZID=Europe/Amsterdam:20180516T020000
DTSTAMP:20260423T195441
CREATED:20180510T051749Z
LAST-MODIFIED:20190204T160121Z
UID:3454-1526502600-1526436000@code-rood.org
SUMMARY:Informatieavond Nijmegen 16 mei
DESCRIPTION:In de Klinker in Nijmegen is er een infoavond over de aankomende burgerlijke ongehoorzaamheidsactie\, de legale support demonstratie\, en het klimaatkamp van Code Rood in Groningen. Er zal iets worden verteld over de geschiedenis van Code Rood\, de mijnbouw en de gevolgen daarvan in Groningen en de aankomende actie van Code Rood.\nVan tevoren is er soepcafe\, vegan soep\, brood en salade tegen donatie en na de talk laten we de film Beyond the red lines zien! \nProgramma:\n\nDatum: 16 Mei 2018\nSoepcafe:  18:30\nStart: 20:00\, presentatie Code Rood + Q&A\nLocatie: de Klinker\, Van Broeckhuysenstraat 46\, Nijmegen (kaart)\nFilm-screening: Beyond the red lines\nDeel dit op Facebook!\n\nYour browser does not support the video tag.
URL:https://code-rood.org/en/event/informatie-avond-nijmegen-16-mei/
LOCATION:Informatieavond Rotterdam 20 juni
CATEGORIES:Info-night
END:VEVENT
BEGIN:VEVENT
DTSTART;TZID=Europe/Amsterdam:20180221T160000
DTEND;TZID=Europe/Amsterdam:20180221T160000
DTSTAMP:20260423T195441
CREATED:20181221T082336Z
LAST-MODIFIED:20190204T152110Z
UID:6708-1519228800-1519228800@code-rood.org
SUMMARY:Vrijdag 21 december: Fluitconcert Klimaatakkoord #vervuilersvantafel!
DESCRIPTION:Klik hier voor een livestream en persbericht van deze actie!\n*English below*\nAanstaande vrijdag is de deadline van het Klimaatakkoord en die middag is er een persconferentie. Na een jaar gepolder is het resultaat nog steeds ondermaats en hebben de fossiele multinationals nog steeds een plek aan tafel. Daarom gaan we naar Den Haag en roepen we iedereen op om om 15.00 naar het Plein te komen om de overheid uit te fluiten en de vervuilers van tafel te fluiten.\nDe resultaten van de onderhandelingen rond het Klimaat en Energie Akkoord zijn een aanfluiting. De CO2-uitstoot blijft stijgen en drie jaar na de klimaatonderhandelingen in Parijs ligt er nog steeds geen goed plan. Na een jaar gepolder in Nederland hebben we slechts de contouren van een ontoereikend compromis. Dit is niet acceptabel\, er is geen tijd voor vertraging. De gevolgen van de klimaatcrisis voltrekken zich nu al op grote schaal en worden met name gevoeld door de meest gemarginaliseerde en kwetsbare groepen\, die het minst aan het probleem hebben bijgedragen.\n\nDaarom fluiten wij de vervuilers van tafel. Zo lang de fossiele industrie meepraat\, is elk klimaatakkoord kansloos. Al sinds begin jaren 90 weten zij te voorkomen dat de overheid beperkingen oplegt aan de fossiele industrie. Wetenschappers waarschuwen dat we fossiele brandstoffen nú moeten uitfaseren zodat de uitstoot in 2020 serieus is gedaald. Alleen zo kunnen we de grootste klimaatchaos voorkomen. Maar met de fossiele industrie aan tafel stellen de grootste vervuilers de kaders voor klimaatbeleid. Ze zaaien twijfel over de ernst van het klimaatprobleem en ze praten ons aan dat we niet zonder fossiele brandstof kunnen. De industrie bepaalt het beleid en laat ons\, de burgers\, opdraaien voor de kosten van de transitie en de schade die zij veroorzaken.\nDaarom fluiten wij de overheid uit: omdat ze nog altijd de belangen van de oude economie\, gedreven door fossiele brandstoffen\, voor het belang van haar eigen burgers zet.\nWe zijn klaar met de invloed van vervuilers op ons leven en onze politiek en het is aan ons om die macht te doorbreken. Daarom fluiten wij vrijdag de vervuilers van tafel.\nWanneer: vrijdag 21 december\, 15:00 verzamelen\nWaar: het Plein\, Den Haag\nMeenemen: je vingers om op te fluiten of andere blaasinstrumenten\, eventueel spandoeken\nOnze beweging gaat uit van wat er echt moet gebeuren om onder 1.5C opwarming te blijven. Het is hoog tijd dat we de fossiele industrie letterlijk bij de bron aanpakken\, dus daar waar kolen\, olie en gas de grond uit komen. Alleen zo kunnen we voorkomen dat klimaatontwrichting ons de kop gaat kosten. Wij zullen in actie blijven komen\, totdat de overheid hier echt werk van maakt.\n—\n*A brief summary in English*\nWhistling concert Klimaatakkoord: get the polluters off the table!\nOn Friday afternoon the Dutch prime minister is giving a press conference in The Hague about the Klimaat en Energie Akkoord (Climate and Energy Agreement). We’ll be there to make some noise. As long as the big polluting fossil fuel companies are allowed to be part of the negotiations we do not trust the outcome. We are tired of the influence of polluters over our lives and political processes – it’s up to us to weaken that power!\nWhen: Friday 21 December\, 15:00\nWhere: Het Plein\, The Hague\nBring: your fingers to whistle on or other instruments\, and banners.
URL:https://code-rood.org/en/event/vrijdag-21-december-fluitconcert-klimaatakkoord-vervuilersvantafel/
LOCATION:Het Plein\, Den Haag\, Nederland
CATEGORIES:Action
END:VEVENT
BEGIN:VEVENT
DTSTART;TZID=Europe/Amsterdam:20170614T220000
DTEND;TZID=Europe/Amsterdam:20170614T020000
DTSTAMP:20260423T195441
CREATED:20180614T095136Z
LAST-MODIFIED:20190204T155509Z
UID:4021-1497477600-1497405600@code-rood.org
SUMMARY:Informatieavond Nijmegen 14 juni
DESCRIPTION:Locatie: de Klinker\, Van Broeckhuysenstraat 46\, Nijmegen (kaart)\, 12 min lopen van Nijmegen CS.\nStart: 20:00\,  (het  bataforum)\n\nHET IS CODE ROOD VOOR GRONINGEN EN HET KLIMAAT! De gaskraan moet dicht en alle aardbevingsschade moet worden vergoed. Maar de NAM\, Shell en Exxon blijven maar doorpompen. En de regering laat het gebeuren. Doe mee. Dan keren wij het tij!\nOp 14 juni wordt tijdens het forum in de klinker burgerlijke ongehoorzaamheid als actiemiddel besproken. Ook het klimaatkamp van 24-31 augustus en de actie zelf worden toegelicht. Hier kan je een gevarieerd programma volgen van workshops\, trainingen en open discussies over de gaswinning en een fossielvrije samenleving. En ’s avonds kampvuur en muziek. Je kan op het kamp blijven overnachten of een dagje langskomen. \n\nAlles wat je wil weten en meer over de Code Rood mobilisatie voor Groningen komt aan bod bij deze info-avond. Daarnaast is het de ideale gelegenheid kennis te maken met anderen die van plan zijn om eind augustus mee te doen.\nVoor meer informatie kijk Massaal Tegen Gas: Kamp & Actie
URL:https://code-rood.org/en/event/informatieavond-nijmegen-14-juni/
LOCATION:Informatieavond Rotterdam 20 juni
CATEGORIES:Info-night
END:VEVENT
END:VCALENDAR