BEGIN:VCALENDAR
VERSION:2.0
PRODID:-//CODE ROOD - ECPv6.0.4//NONSGML v1.0//EN
CALSCALE:GREGORIAN
METHOD:PUBLISH
X-WR-CALNAME:CODE ROOD
X-ORIGINAL-URL:https://code-rood.org/nl/
X-WR-CALDESC:Evenementen voor CODE ROOD
REFRESH-INTERVAL;VALUE=DURATION:PT1H
X-Robots-Tag:noindex
X-PUBLISHED-TTL:PT1H
BEGIN:VTIMEZONE
TZID:Europe/Amsterdam
BEGIN:DAYLIGHT
TZOFFSETFROM:+0100
TZOFFSETTO:+0200
TZNAME:CEST
DTSTART:20190331T010000
END:DAYLIGHT
BEGIN:STANDARD
TZOFFSETFROM:+0200
TZOFFSETTO:+0100
TZNAME:CET
DTSTART:20191027T010000
END:STANDARD
END:VTIMEZONE
BEGIN:VEVENT
DTSTART;TZID=Europe/Amsterdam:20190919T080000
DTEND;TZID=Europe/Amsterdam:20190925T170000
DTSTAMP:20260421T145304
CREATED:20190721T180941Z
LAST-MODIFIED:20190721T180941Z
UID:9954-1568880000-1569430800@code-rood.org
SUMMARY:Vanuit NL naar Free The Soil massa-actie & kamp
DESCRIPTION:Free the Soil is een campagne om de verschrikkelijke effecten en gebruiken van industriele agricultuur op de kaart te zetten. Deze industrie draagt in grote mate bij aan de steeds escalerende klimaatcrisis. \nFree the Soil organiseert een massa-actie en kamp om industriele agricultuur en kunstmest aan te pakken. \nASEED ondersteund Free the Soil door collectief transport naar het kamp te organiseren vanuit Nederland. Voor meer details zoals de reisdata\, kosten en hoe je je kan opgeven zullen binnenkort volgen (hou Facebook in de gaten). \nWe raden jou en je group aan om deel te nemen aan deze strijd!
URL:https://code-rood.org/nl/event/vanuit-nl-naar-free-the-soil-massa-actie-kamp/
LOCATION:Brunsbüttel\, Brunsbüttel\, Germany
CATEGORIES:Actie,kamp
ATTACH;FMTTYPE=image/jpeg:https://code-rood.org/wp-content/uploads/2019/07/freethesoil2019.jpg
END:VEVENT
BEGIN:VEVENT
DTSTART;TZID=Europe/Amsterdam:20190814T080000
DTEND;TZID=Europe/Amsterdam:20190820T170000
DTSTAMP:20260421T145304
CREATED:20190721T173951Z
LAST-MODIFIED:20190721T175243Z
UID:9929-1565769600-1566320400@code-rood.org
SUMMARY:EarthFirst! and Animal Liberation summer gathering
DESCRIPTION:Zes dagen van skillsharing voor grasroots ecologische directe actie en dierenrechten. Netwerk\, deel ideeen\, raak betrokken bij de strijd tegen fracking\, steenkool\, nucleaire energie\, nieuwe asfalt wegen en meer. Dit jaar vindt de bijeenkomst plaats in solidariteit met het anti-kolen verzet in het noord-oosten van Engeland – met wat leuke dingen die gebeuren in het weekend! Vertel je kameraden en breng je vrienden! \nEarth Firs! is gebaseerd op de principes van non-hierarchische organisatie en directe action om het vernietigen van het klimaat van de aarde en haar bewoners tegen te gaan. \nDe zomerbijeenkomst is een kans voor groepen en mensen van het hele land om samen te komen\, te netwerken\, praktisch vaardigheden te leren en geinspireerd te worden. De bijeenkomst is vriendelijk en inclusief dus maak je je geen zorgen als je niemand kent. Spoedig leer je mensen kennen in de workshops en tijdens het eten die helemaal vegan en collectief gemaakt worden. \nEr is een programma van workshops (meer dan 100) die later bekend gemaakt zal worden. Sommige zijn meer praktische en ander emeer theoretisch (en alles daar tussenin). We hebben ook een kinderworkshopprogramma met een keuken voor kinderen en meer! \nMeer info zal volgen. \nFacebookevent hier.
URL:https://code-rood.org/nl/event/earthfirst-and-animal-liberation-summer-gathering/
LOCATION:Vanuit NL naar Free The Soil massa-actie & kamp
CATEGORIES:kamp
ATTACH;FMTTYPE=image/jpeg:https://code-rood.org/wp-content/uploads/2019/07/earthfirst_animal_aug.jpeg
END:VEVENT
END:VCALENDAR